BEGIN:VCALENDAR
VERSION:2.0
PRODID:-//wp-events-plugin.com//7.2.3.1//EN
BEGIN:VEVENT
UID:10@pattersonsheridan.com
DTSTART;TZID=America/New_York:20240325T120000
DTEND;TZID=America/New_York:20240325T133000
DTSTAMP:20240325T195921Z
URL:https://www.pattersonsheridan.com/events/the-knowledge-group-cle-webca
 st-malgorzata-kulczycka-march-25-2024/
SUMMARY:Unlocking Innovation: Navigating Patentability for ML\, AI\, and So
 ftware Inventions LIVE Webcast - March 25\, 2024
DESCRIPTION:On March 25\, 2024\, join partner Malgorzata (“Gosia”) Kulc
 zycka live as she and her panel discuss complexities of the approaches to 
 patenting AI innovations and offer practical insight on protecting the AI 
 intellectual assets. In this live CLE webcast\, the presenters will elabor
 ate on holistic understanding of patentability of Generative AI\, and prov
 ide practical guidance for successfully safeguarding AI intellectual prope
 rty in this rapidly evolving field\, including machine learning (ML)\, art
 ificial intelligence (AI)\, the reasonable and unreasonable uses of Genera
 tive AI\, and the driving force behind groundbreaking AI inventions.\n\nKe
 y issues covered in this course are:\n\n 	USPTO Inventorship Guidance for 
 AI-Assisted Inventions\n 	Crafting Claims for AI-Related Inventions\n 	Inv
 ention Analysis for AI-based Technologies\n 	Potential Pitfalls\n 	Respons
 ible and Irresponsible Uses of AI\n\nTime: 12 PM ET / 11 AM CT / 9 AM PT\n
 \nRead more and register here.
ATTACH;FMTTYPE=image/jpeg:https://www.pattersonsheridan.com/wp-content/upl
 oads/2024/03/LinkedIn_Gosia_The-Knowledge-Group_March25-1.png
CATEGORIES:Panel,Presenter
LOCATION:https://zurl.co/HtyP
END:VEVENT
BEGIN:VTIMEZONE
TZID:America/New_York
X-LIC-LOCATION:America/New_York
BEGIN:DAYLIGHT
DTSTART:20240310T030000
TZOFFSETFROM:-0500
TZOFFSETTO:-0400
TZNAME:EDT
END:DAYLIGHT
END:VTIMEZONE
END:VCALENDAR